BEGIN:VCALENDAR
VERSION:2.0
PRODID:-//Laboratoire de Mécanique et Génie Civil (LMGC) - ECPv6.2.3.2//NONSGML v1.0//EN
CALSCALE:GREGORIAN
METHOD:PUBLISH
X-ORIGINAL-URL:https://lmgc.umontpellier.fr
X-WR-CALDESC:évènements pour Laboratoire de Mécanique et Génie Civil (LMGC)
REFRESH-INTERVAL;VALUE=DURATION:PT1H
X-Robots-Tag:noindex
X-PUBLISHED-TTL:PT1H
BEGIN:VTIMEZONE
TZID:Europe/Paris
BEGIN:DAYLIGHT
TZOFFSETFROM:+0100
TZOFFSETTO:+0200
TZNAME:CEST
DTSTART:20240331T010000
END:DAYLIGHT
BEGIN:STANDARD
TZOFFSETFROM:+0200
TZOFFSETTO:+0100
TZNAME:CET
DTSTART:20241027T010000
END:STANDARD
BEGIN:DAYLIGHT
TZOFFSETFROM:+0100
TZOFFSETTO:+0200
TZNAME:CEST
DTSTART:20250330T010000
END:DAYLIGHT
BEGIN:STANDARD
TZOFFSETFROM:+0200
TZOFFSETTO:+0100
TZNAME:CET
DTSTART:20251026T010000
END:STANDARD
BEGIN:DAYLIGHT
TZOFFSETFROM:+0100
TZOFFSETTO:+0200
TZNAME:CEST
DTSTART:20260329T010000
END:DAYLIGHT
BEGIN:STANDARD
TZOFFSETFROM:+0200
TZOFFSETTO:+0100
TZNAME:CET
DTSTART:20261025T010000
END:STANDARD
END:VTIMEZONE
BEGIN:VEVENT
DTSTART;TZID=Europe/Paris:20251216T160000
DTEND;TZID=Europe/Paris:20260123T170000
DTSTAMP:20260424T160531
CREATED:20251216T112711Z
LAST-MODIFIED:20251216T112711Z
UID:3303-1765900800-1769187600@lmgc.umontpellier.fr
SUMMARY:Séminaire LMGC
DESCRIPTION:« Contribution des matériaux bio / géo sourcés et du stockage thermique à l’amélioration de l’efficacité énergétique des bâtiments »
URL:https://lmgc.umontpellier.fr/event/seminaire-lmgc-5/
ATTACH;FMTTYPE=image/png:https://lmgc.umontpellier.fr/wp-content/uploads/2025/12/K-Touati.png
END:VEVENT
BEGIN:VEVENT
DTSTART;TZID=Europe/Paris:20251216T160000
DTEND;TZID=Europe/Paris:20251218T170000
DTSTAMP:20260424T160531
CREATED:20251216T112207Z
LAST-MODIFIED:20251216T112305Z
UID:3297-1765900800-1766077200@lmgc.umontpellier.fr
SUMMARY:Séminaire LMGC
DESCRIPTION:« Développement d’un modèle à gradient d’endommagement pour la simulation du couplage thermique-mécanique : application à la dégradation des matériaux composites »
URL:https://lmgc.umontpellier.fr/event/seminaire-lmgc-4/
ATTACH;FMTTYPE=image/png:https://lmgc.umontpellier.fr/wp-content/uploads/2025/12/Mhadji-ABDOUSSALAM.png
END:VEVENT
BEGIN:VEVENT
DTSTART;TZID=Europe/Paris:20251215T080000
DTEND;TZID=Europe/Paris:20251219T170000
DTSTAMP:20260424T160531
CREATED:20251215T092025Z
LAST-MODIFIED:20251215T092025Z
UID:3293-1765785600-1766163600@lmgc.umontpellier.fr
SUMMARY:Mohamad Mahmoud soutien sa thèse Mardi 16 décembre 2025 à 9:30
DESCRIPTION:« Contribution à la validation expérimentale de la méthode des éléments discrets : effets de forme\, fragmentation. »\n« Contribution to the Experimental Validation of the Discrete Element Method:Shape Effects and Fragmentation. »
URL:https://lmgc.umontpellier.fr/event/mohamad-mahmoud-soutien-sa-these-mardi-16-decembre-2025-a-930/
ATTACH;FMTTYPE=image/jpeg:https://lmgc.umontpellier.fr/wp-content/uploads/2025/12/Photo.jpg
END:VEVENT
BEGIN:VEVENT
DTSTART;TZID=Europe/Paris:20251204T080000
DTEND;TZID=Europe/Paris:20251214T170000
DTSTAMP:20260424T160531
CREATED:20251204T103207Z
LAST-MODIFIED:20251204T103207Z
UID:3282-1764835200-1765731600@lmgc.umontpellier.fr
SUMMARY:Agathe de Sercey soutient sa thèse Vendredi 12 décembre à 9:30
DESCRIPTION:« Intégration du triplet tribologique dans une approche numérique multi-échelle : application au freinage aéronautique. »
URL:https://lmgc.umontpellier.fr/event/agathe-de-sercey-soutient-sa-these-vendredi-12-decembre-a-930/
ATTACH;FMTTYPE=image/jpeg:https://lmgc.umontpellier.fr/wp-content/uploads/2025/12/Agathe-photo-Web-1.jpg
END:VEVENT
BEGIN:VEVENT
DTSTART;TZID=Europe/Paris:20251127T140000
DTEND;TZID=Europe/Paris:20251128T170000
DTSTAMP:20260424T160531
CREATED:20251126T141609Z
LAST-MODIFIED:20251126T142100Z
UID:3274-1764252000-1764349200@lmgc.umontpellier.fr
SUMMARY:Ali Nour El Dein soutient sa thèse\, jeudi 27 novembre 2025 à 14:00 - Campus Scientifique Louis Leprince-Ringuet - IMT Mines d’Alès
DESCRIPTION:«Valorisation des anas de lin dans des biocomposites fabriqués par injection : Contrôle du fractionnement et de la microstructure pour des performances mécaniques améliorées»
URL:https://lmgc.umontpellier.fr/event/ali-nour-el-dein-soutient-sa-these-jeudi-27-novembre-2025-a-1400/
ATTACH;FMTTYPE=image/jpeg:https://lmgc.umontpellier.fr/wp-content/uploads/2025/11/Ali-Nour-El-Dein.jpg
END:VEVENT
BEGIN:VEVENT
DTSTART;TZID=Europe/Paris:20251124T080000
DTEND;TZID=Europe/Paris:20251128T170000
DTSTAMP:20260424T160531
CREATED:20251124T145148Z
LAST-MODIFIED:20251124T145148Z
UID:3270-1763971200-1764349200@lmgc.umontpellier.fr
SUMMARY:Romain Jeanpierre soutient sa thèse jeudi 27 novembre 2025 8:30
DESCRIPTION:Effet du « temper bead welding » sur les contraintes résiduelles lors de la réparation par soudage d’appareils sous pression
URL:https://lmgc.umontpellier.fr/event/romain-jeanpierre-soutient-sa-these-jeudi-27-novembre-2025-830/
ATTACH;FMTTYPE=image/jpeg:https://lmgc.umontpellier.fr/wp-content/uploads/2025/11/recadree-RJP-petit.jpg
END:VEVENT
BEGIN:VEVENT
DTSTART;TZID=Europe/Paris:20251119T080000
DTEND;TZID=Europe/Paris:20251124T170000
DTSTAMP:20260424T160531
CREATED:20251119T151812Z
LAST-MODIFIED:20251119T151901Z
UID:3252-1763539200-1764003600@lmgc.umontpellier.fr
SUMMARY:Alaa Al Fay soutient sa thèse Jeudi 20 novembre 2025
DESCRIPTION:« Caractérisation par analyse vibratoire des propriétés élastiques d’échantillons de bois dans leur diversité naturelle »
URL:https://lmgc.umontpellier.fr/event/alaa-al-fay-soutient-sa-these-jeudi-20-novembre-2025/
ATTACH;FMTTYPE=image/jpeg:https://lmgc.umontpellier.fr/wp-content/uploads/2025/11/Photo-Alaa.jpg
END:VEVENT
BEGIN:VEVENT
DTSTART;TZID=Europe/Paris:20251029T080000
DTEND;TZID=Europe/Paris:20251106T170000
DTSTAMP:20260424T160531
CREATED:20251029T111823Z
LAST-MODIFIED:20251029T111823Z
UID:3244-1761724800-1762448400@lmgc.umontpellier.fr
SUMMARY:Nathan Collin soutient sa thèse Mercredi 5 novembre 2025 09:00
DESCRIPTION:« Simulation patient spécifique de la fermeture percutanée de l’auricule gauche\, approche numérique et validation expérimentale »
URL:https://lmgc.umontpellier.fr/event/nathan-collin-soutient-sa-these-mercredi-5-novembre-2025-0900/
ATTACH;FMTTYPE=image/jpeg:https://lmgc.umontpellier.fr/wp-content/uploads/2025/10/ok2-petit.jpg
END:VEVENT
BEGIN:VEVENT
DTSTART;TZID=Europe/Paris:20251021T080000
DTEND;TZID=Europe/Paris:20251128T170000
DTSTAMP:20260424T160531
CREATED:20251021T085017Z
LAST-MODIFIED:20251021T085458Z
UID:3236-1761033600-1764349200@lmgc.umontpellier.fr
SUMMARY:Séminaire Colin Guenser
DESCRIPTION:La maçonnerie et la pierre : approches expérimentales et numériques pour le diagnostic et la conservation
URL:https://lmgc.umontpellier.fr/event/seminaire-colin-guenser/
ATTACH;FMTTYPE=image/png:https://lmgc.umontpellier.fr/wp-content/uploads/2025/10/seminaire-Format-Carre-Guenser.png
END:VEVENT
BEGIN:VEVENT
DTSTART;TZID=Europe/Paris:20251006T080000
DTEND;TZID=Europe/Paris:20251114T170000
DTSTAMP:20260424T160531
CREATED:20251006T092751Z
LAST-MODIFIED:20251006T092751Z
UID:3222-1759737600-1763139600@lmgc.umontpellier.fr
SUMMARY:Séminaire Mhadji ABDOUSSALAM
DESCRIPTION:«Développement d’un modèle à gradient d’endommagement pour la simulation du couplage thermique-mécanique : application à la dégradation des matériaux composites»
URL:https://lmgc.umontpellier.fr/event/seminaire-mhadji-abdoussalam/
ATTACH;FMTTYPE=image/png:https://lmgc.umontpellier.fr/wp-content/uploads/2025/10/Mhadji-ABDOUSSALAM.png
END:VEVENT
BEGIN:VEVENT
DTSTART;TZID=Europe/Paris:20250903T080000
DTEND;TZID=Europe/Paris:20250912T170000
DTSTAMP:20260424T160531
CREATED:20250903T125956Z
LAST-MODIFIED:20250903T131231Z
UID:3210-1756886400-1757696400@lmgc.umontpellier.fr
SUMMARY:Séminaire Romain Dupuis Jeudi 11 septembre 14:00
DESCRIPTION:« De la molécule au matériau : ce que vous n’auriez jamais imaginé aimer savoir sur la simulation atomistique »
URL:https://lmgc.umontpellier.fr/event/seminaire-romain-dupuis-jeudi-11-septembre-1400/
ATTACH;FMTTYPE=image/png:https://lmgc.umontpellier.fr/wp-content/uploads/2025/09/seminaire-Format-Carre-Romain.png
END:VEVENT
BEGIN:VEVENT
DTSTART;TZID=Europe/Paris:20250903T080000
DTEND;TZID=Europe/Paris:20250909T170000
DTSTAMP:20260424T160531
CREATED:20250903T125159Z
LAST-MODIFIED:20250903T130723Z
UID:3206-1756886400-1757437200@lmgc.umontpellier.fr
SUMMARY:Séminaire Takashi Matsushima Lundi 8 septembre  14:00
DESCRIPTION:« Mechanics of cell structure in granular solid »
URL:https://lmgc.umontpellier.fr/event/seminaire-takashi-matsushima-lundi-8-septembre-1400/
ATTACH;FMTTYPE=image/png:https://lmgc.umontpellier.fr/wp-content/uploads/2025/09/seminaire-Format-Carre-Takashi-Matsushima.png
END:VEVENT
BEGIN:VEVENT
DTSTART;TZID=Europe/Paris:20250701T080000
DTEND;TZID=Europe/Paris:20250706T170000
DTSTAMP:20260424T160531
CREATED:20250619T141048Z
LAST-MODIFIED:20250619T141048Z
UID:3172-1751356800-1751821200@lmgc.umontpellier.fr
SUMMARY:Emilie Parpaillon soutient sa Thèse
DESCRIPTION:«Conception d’un modèle d’étude du comportement des endoprothèses vasculaires\, au cours du temps\, en milieux simulant les conditions physiologiques et les contraintes mécaniques» \nMardi 1er juillet 2025 à 10:00\nAmphithéâtre Jean Jacques Moreau\n860\, rue de Saint Priest\, Bat. 2\n34090 Montpellier \nPlus d’Infos
URL:https://lmgc.umontpellier.fr/event/emilie-parpaillon-soutient-sa-these/
ATTACH;FMTTYPE=image/jpeg:https://lmgc.umontpellier.fr/wp-content/uploads/2025/06/Emilie-e1750342147345.jpg
END:VEVENT
BEGIN:VEVENT
DTSTART;TZID=Europe/Paris:20250625T080000
DTEND;TZID=Europe/Paris:20250711T170000
DTSTAMP:20260424T160531
CREATED:20250625T115023Z
LAST-MODIFIED:20250625T115023Z
UID:3179-1750838400-1752253200@lmgc.umontpellier.fr
SUMMARY:Jeanne Jacintha Naby soutient sa thèse
DESCRIPTION:« Contribution à l’étude de pieux hélicoïdaux pour la fondation de structures temporaires en milieu maritime » \nJeudi 10 juillet à 9:30\nAmphithéâtre Jean Jacques Moreau\n860\, rue de Saint Priest\, Bat. 2\n34090 Montpellier \nPlus d’infos
URL:https://lmgc.umontpellier.fr/event/jeanne-jacintha-naby-soutient-sa-these/
ATTACH;FMTTYPE=image/jpeg:https://lmgc.umontpellier.fr/wp-content/uploads/2025/06/Jeanne-ok.jpg
END:VEVENT
BEGIN:VEVENT
DTSTART;TZID=Europe/Paris:20250625T080000
DTEND;TZID=Europe/Paris:20250627T170000
DTSTAMP:20260424T160531
CREATED:20250625T123135Z
LAST-MODIFIED:20250625T123135Z
UID:3187-1750838400-1751043600@lmgc.umontpellier.fr
SUMMARY:Séminaire Mikael Barboteu - Université de Perpignan - Jeudi 26 juin 2025 à 14:00
DESCRIPTION:  \nPlus d’Infos
URL:https://lmgc.umontpellier.fr/event/seminaire-mikael-barboteu-universite-de-perpignan-jeudi-26-juin-2025-a-1400/
ATTACH;FMTTYPE=image/png:https://lmgc.umontpellier.fr/wp-content/uploads/2025/06/seminaire-Format-Carre.png
END:VEVENT
BEGIN:VEVENT
DTSTART;TZID=Europe/Paris:20250619T080000
DTEND;TZID=Europe/Paris:20250706T170000
DTSTAMP:20260424T160531
CREATED:20250619T135433Z
LAST-MODIFIED:20250619T141214Z
UID:3167-1750320000-1751821200@lmgc.umontpellier.fr
SUMMARY:Léa Boillereaux soutient sa thèse
DESCRIPTION:Développement d’une orthèse de genou pour la modulation des efforts articulaires lors du squat: optimisation\, évaluation et interactions avec la peau \nVendredi 4 juillet 2025 à 14:00\nAmphithéâtre de physique\nFaculté des Sciences\, Bat. 20\nCampus Triolet\n34090 Montpellier \nPlus d’infos
URL:https://lmgc.umontpellier.fr/event/lea-boillereaux-soutient-sa-these/
ATTACH;FMTTYPE=image/jpeg:https://lmgc.umontpellier.fr/wp-content/uploads/2025/06/photo.jpg
END:VEVENT
BEGIN:VEVENT
DTSTART;TZID=Europe/Paris:20250424T080000
DTEND;TZID=Europe/Paris:20250430T170000
DTSTAMP:20260424T160531
CREATED:20250424T133843Z
LAST-MODIFIED:20250424T134020Z
UID:3153-1745481600-1746032400@lmgc.umontpellier.fr
SUMMARY:Fairouz TOUATI soutien sa thèse
DESCRIPTION:« Composites ciment-carbone multifonctionnels pour des applications environnementales : Séquestration du CO2 et Auto-chauffage »   Mercredi 30 avril 2025 à 14:00 \nAmphithéâtre Jean Jacques Moreau\n860\, rue de Saint Priest\, Bat. 2\n34090 Montpellier
URL:https://lmgc.umontpellier.fr/event/fairouz-touati-soutien-sa-these/
END:VEVENT
BEGIN:VEVENT
DTSTART;TZID=Europe/Paris:20250424T080000
DTEND;TZID=Europe/Paris:20250430T170000
DTSTAMP:20260424T160531
CREATED:20250424T133217Z
LAST-MODIFIED:20250424T133326Z
UID:3147-1745481600-1746032400@lmgc.umontpellier.fr
SUMMARY:Séminaire Daniel BONAMY (CEA Saclay)
DESCRIPTION:Plus d’infos
URL:https://lmgc.umontpellier.fr/event/seminaire-daniel-bonamy-cea-saclay/
ATTACH;FMTTYPE=image/png:https://lmgc.umontpellier.fr/wp-content/uploads/2025/04/Bonamy-Format-Carre.png
END:VEVENT
BEGIN:VEVENT
DTSTART;TZID=Europe/Paris:20250310T080000
DTEND;TZID=Europe/Paris:20250314T170000
DTSTAMP:20260424T160531
CREATED:20250310T083200Z
LAST-MODIFIED:20250310T083506Z
UID:3125-1741593600-1741971600@lmgc.umontpellier.fr
SUMMARY:Thomas BOURSAT soutient sa thèse
DESCRIPTION:Mercredi 12 mars 2025 à 14:00\n« Mécanique de la croissance cambiale : quantification et interaction des contraintes entre bois et écorce » \nPlus d’infos
URL:https://lmgc.umontpellier.fr/event/thomas-boursat-soutient-sa-these/
ATTACH;FMTTYPE=image/jpeg:https://lmgc.umontpellier.fr/wp-content/uploads/2025/03/Boursat_Photo-ID3.jpg
END:VEVENT
BEGIN:VEVENT
DTSTART;TZID=Europe/Paris:20250303T080000
DTEND;TZID=Europe/Paris:20250320T170000
DTSTAMP:20260424T160531
CREATED:20250303T094926Z
LAST-MODIFIED:20250303T095438Z
UID:3110-1740988800-1742490000@lmgc.umontpellier.fr
SUMMARY:Séminaire MATLAB 19 mars 2025
DESCRIPTION:Plus d’Infos
URL:https://lmgc.umontpellier.fr/event/seminaire-matlab/
ATTACH;FMTTYPE=image/png:https://lmgc.umontpellier.fr/wp-content/uploads/2025/03/seminaire-Format-Carre-Matlab-1.png
END:VEVENT
BEGIN:VEVENT
DTSTART;TZID=Europe/Paris:20250228T080000
DTEND;TZID=Europe/Paris:20250328T170000
DTSTAMP:20260424T160531
CREATED:20250228T132106Z
LAST-MODIFIED:20250303T095306Z
UID:3094-1740729600-1743181200@lmgc.umontpellier.fr
SUMMARY:Séminaire Walid DEBOUCHA le 27 mars 2025
DESCRIPTION:Plus d’infos
URL:https://lmgc.umontpellier.fr/event/seminaire-walid-deboucha/
ATTACH;FMTTYPE=image/png:https://lmgc.umontpellier.fr/wp-content/uploads/2025/02/seminaire-Format-Carre.png
END:VEVENT
BEGIN:VEVENT
DTSTART;TZID=Europe/Paris:20250228T080000
DTEND;TZID=Europe/Paris:20250307T170000
DTSTAMP:20260424T160531
CREATED:20250228T132708Z
LAST-MODIFIED:20250228T132936Z
UID:3100-1740729600-1741366800@lmgc.umontpellier.fr
SUMMARY:Séminaire Rémy MOZUL le 6 mars 2025
DESCRIPTION:Plus d’infos
URL:https://lmgc.umontpellier.fr/event/seminaire-remy-mozul/
ATTACH;FMTTYPE=image/png:https://lmgc.umontpellier.fr/wp-content/uploads/2025/02/seminaire-Format-Carre-RM.png
END:VEVENT
BEGIN:VEVENT
DTSTART;TZID=Europe/Paris:20250228T080000
DTEND;TZID=Europe/Paris:20250228T170000
DTSTAMP:20260424T160531
CREATED:20250228T141305Z
LAST-MODIFIED:20250228T141305Z
UID:3106-1740729600-1740762000@lmgc.umontpellier.fr
SUMMARY:Séminaire Mathworks 19 mars 2025 14:00
DESCRIPTION:Plus d’infos
URL:https://lmgc.umontpellier.fr/event/seminaire-mathworks-19-mars-2025-1400/
ATTACH;FMTTYPE=image/png:https://lmgc.umontpellier.fr/wp-content/uploads/2025/02/seminaire-Format-Carre-Matlab.png
END:VEVENT
BEGIN:VEVENT
DTSTART;TZID=Europe/Paris:20250227T080000
DTEND;TZID=Europe/Paris:20250404T080000
DTSTAMP:20260424T160531
CREATED:20250206T160726Z
LAST-MODIFIED:20250310T081546Z
UID:3073-1740643200-1743753600@lmgc.umontpellier.fr
SUMMARY:Séminaire Emilien AZEMA 3 Avril 2025
DESCRIPTION:Plus d’Infos
URL:https://lmgc.umontpellier.fr/event/seminaire-lmgc-13-fevrier-2025-e-azema/
ATTACH;FMTTYPE=image/png:https://lmgc.umontpellier.fr/wp-content/uploads/2025/02/Emillien-2.png
END:VEVENT
BEGIN:VEVENT
DTSTART;TZID=Europe/Paris:20250211T140000
DTEND;TZID=Europe/Paris:20250211T170000
DTSTAMP:20260424T160531
CREATED:20250116T123106Z
LAST-MODIFIED:20250120T151041Z
UID:3034-1739282400-1739293200@lmgc.umontpellier.fr
SUMMARY:Séminaire LMGC
DESCRIPTION:Plus d’infos \n 
URL:https://lmgc.umontpellier.fr/event/seminaire-lmgc-2/
ATTACH;FMTTYPE=image/png:https://lmgc.umontpellier.fr/wp-content/uploads/2025/01/Todros.png
END:VEVENT
BEGIN:VEVENT
DTSTART;TZID=Europe/Paris:20250123T080000
DTEND;TZID=Europe/Paris:20250213T170000
DTSTAMP:20260424T160531
CREATED:20250120T150118Z
LAST-MODIFIED:20250120T150118Z
UID:3040-1737619200-1739466000@lmgc.umontpellier.fr
SUMMARY:Seminaire LMGC
DESCRIPTION:«Autour du concept d’énergie» Cycle de conférences \nPlus d’infos
URL:https://lmgc.umontpellier.fr/event/seminaire-lmgc-3/
ATTACH;FMTTYPE=image/png:https://lmgc.umontpellier.fr/wp-content/uploads/2025/01/seminaire-Format-Carre.png
END:VEVENT
BEGIN:VEVENT
DTSTART;TZID=Europe/Paris:20250116T140000
DTEND;TZID=Europe/Paris:20250116T170000
DTSTAMP:20260424T160531
CREATED:20250114T144609Z
LAST-MODIFIED:20250114T144609Z
UID:3029-1737036000-1737046800@lmgc.umontpellier.fr
SUMMARY:Séminaire LMGC
DESCRIPTION:« Le cahier de laboratoire électronique Elabftw » \nJeudi 16 janvier 2025\n14:00 Salle 205\n860\, rue de Saint-Priest\, Bat. 2\n34090 Montpellier
URL:https://lmgc.umontpellier.fr/event/seminaire-lmgc/
END:VEVENT
BEGIN:VEVENT
DTSTART;TZID=Europe/Paris:20241219T080000
DTEND;TZID=Europe/Paris:20241219T170000
DTSTAMP:20260424T160531
CREATED:20241216T092818Z
LAST-MODIFIED:20241216T092818Z
UID:2994-1734595200-1734627600@lmgc.umontpellier.fr
SUMMARY:David APONTE soutient sa Thèse
DESCRIPTION:« Experimental and Numerical Investigation of Geometric Cohesion in Granular Systems Composed\nof Highly Non-Convex Particles » \nJeudi 19 décembre 24 à 14:00\nAmphithéâtre Jean Jacques Moreau\n860\, rue de Saint Priest\, Bat. 2 34090 Montpellier \nLa thèse
URL:https://lmgc.umontpellier.fr/event/david-aponte-soutient-sa-these/
ATTACH;FMTTYPE=image/jpeg:https://lmgc.umontpellier.fr/wp-content/uploads/2024/12/Capture.jpg
END:VEVENT
BEGIN:VEVENT
DTSTART;TZID=Europe/Paris:20241218T080000
DTEND;TZID=Europe/Paris:20241218T170000
DTSTAMP:20260424T160531
CREATED:20241216T095850Z
LAST-MODIFIED:20241216T100207Z
UID:2999-1734508800-1734541200@lmgc.umontpellier.fr
SUMMARY:Weiyi WANG soutient sa Thèse
DESCRIPTION:« Numerical and Experimental Investigation of Dense Granular Flow of Highly Concave Particles:\nNon-Local Modelling for Inclined Plane and Rotating Drum Geometries » \nMercredi 18 décembre 24 à 14:00\nAmphithéâtre Jean Jacques Moreau\n860\, rue de Saint Priest\, Bat. 2\n34090 Montpellier \nLa thèse
URL:https://lmgc.umontpellier.fr/event/weiyi-wang-soutient-sa-these/
ATTACH;FMTTYPE=image/jpeg:https://lmgc.umontpellier.fr/wp-content/uploads/2024/12/photo-1.jpg
END:VEVENT
BEGIN:VEVENT
DTSTART;TZID=Europe/Paris:20241213T080000
DTEND;TZID=Europe/Paris:20241213T170000
DTSTAMP:20260424T160531
CREATED:20241206T091007Z
LAST-MODIFIED:20241206T091007Z
UID:2988-1734076800-1734109200@lmgc.umontpellier.fr
SUMMARY:Kamilia AYED soutient sa thèse
DESCRIPTION:« Compaction de matériaux granulaires déformables » \nVendredi 13 décembre à 14:00\nAmphithéâtre Jean Jacques Moreau\n860\, rue de Saint Priest\, Bat. 2\n34090 Montpellier \nLa thèse
URL:https://lmgc.umontpellier.fr/event/kamilia-ayed-soutient-sa-these/
ATTACH;FMTTYPE=image/jpeg:https://lmgc.umontpellier.fr/wp-content/uploads/2024/12/Photo.jpg
END:VEVENT
END:VCALENDAR